Workbook
Name SqlReturn1: 威宁!$B$3:$M$33

Sheet 威宁
A1: 附件2
A2: 威宁自治县2019年汽车驾驶技师考试成绩公示
A3: 序号 | B3: 姓名 | C3: 单位 | D3: 报考岗位 | E3: 侧方位 | F3: 倒桩 | G3: S形 | H3: 连续障碍 | I3: 实操得分 | J3: 理论得分 | K3: 综合成绩 | L3: 参考状态 | M3: 是否通过
A4: 1 | B4: 杜照斌 | C4: =VLOOKUP(B4,[1]威宁!$B$3:$D$32,3,0) -> 威宁自治县地方海事处 | D4: 汽车驾驶员_二级_理论 | E4: 100 | F4: 100 | G4: 100 | H4: 90 | I4: =(E4+F4+G4+H4)/4 -> 97.5 | J4: 77.5 | K4: =I4+J4 -> 175 | L4: 正常 | M4: 第一名，通过
A5: 2 | B5: 卯建军 | C5: =VLOOKUP(B5,[1]威宁!$B$3:$D$32,3,0) -> 威宁自治县自然资源局 | D5: 汽车驾驶员_二级_理论 | E5: 100 | F5: 100 | G5: 100 | H5: 90 | I5: =(E5+F5+G5+H5)/4 -> 97.5 | J5: 77.5 | K5: =I5+J5 -> 175 | L5: 正常 | M5: 第二名，通过
A6: 3 | B6: 李健 | C6: =VLOOKUP(B6,[1]威宁!$B$3:$D$32,3,0) -> 威宁自治县农村公路管理局 | D6: 汽车驾驶员_二级_理论 | E6: 100 | F6: 100 | G6: 100 | H6: 100 | I6: =(E6+F6+G6+H6)/4 -> 100 | J6: 72.5 | K6: =I6+J6 -> 172.5 | L6: 正常 | M6: 第三名，通过
A7: 4 | B7: 舒泽荣 | C7: =VLOOKUP(B7,[1]威宁!$B$3:$D$32,3,0) -> 威宁自治县杨湾桥水库管理所 | D7: 汽车驾驶员_二级_理论 | E7: 100 | F7: 0 | G7: 100 | H7: 100 | I7: =(E7+F7+G7+H7)/4 -> 75 | J7: 70 | K7: =I7+J7 -> 145 | L7: 正常 | M7: 不占比例，通过
A8: 5 | B8: 周照平 | C8: =VLOOKUP(B8,[1]威宁!$B$3:$D$32,3,0) -> 威宁自治县玉龙镇安全生产监督管理站 | D8: 汽车驾驶员_二级_理论 | E8: 77 | F8: 0 | G8: 100 | H8: 80 | I8: =(E8+F8+G8+H8)/4 -> 64.25 | J8: 66.5 | K8: =I8+J8 -> 130.75 | L8: 正常 | M8: 不占比例，通过
A9: 6 | B9: 罗英文 | C9: =VLOOKUP(B9,[1]威宁!$B$3:$D$32,3,0) -> 威宁自治县农村公路管理局 | D9: 汽车驾驶员_二级_理论 | E9: 100 | F9: 0 | G9: 85 | H9: 70 | I9: =(E9+F9+G9+H9)/4 -> 63.75 | J9: 64 | K9: =I9+J9 -> 127.75 | L9: 正常 | M9: 不占比例，通过
A10: 7 | B10: 余军 | C10: =VLOOKUP(B10,[1]威宁!$B$3:$D$32,3,0) -> 威宁自治县自然资源局 | D10: 汽车驾驶员_二级_理论 | E10: 100 | F10: 80 | G10: 100 | H10: 80 | I10: =(E10+F10+G10+H10)/4 -> 90 | J10: 73 | K10: =I10+J10 -> 163 | L10: 正常 | M10: 未通过
A11: 8 | B11: 张黔威 | C11: =VLOOKUP(B11,[1]威宁!$B$3:$D$32,3,0) -> 威宁自治县自然资源局 | D11: 汽车驾驶员_二级_理论 | E11: 90 | F11: 90 | G11: 85 | H11: 100 | I11: =(E11+F11+G11+H11)/4 -> 91.25 | J11: 71.5 | K11: =I11+J11 -> 162.75 | L11: 正常 | M11: 未通过
A12: 9 | B12: 蔡朝辉 | C12: =VLOOKUP(B12,[1]威宁!$B$3:$D$32,3,0) -> 威宁自治县农村公路管理局 | D12: 汽车驾驶员_二级_理论 | E12: 100 | F12: 100 | G12: 85 | H12: 100 | I12: =(E12+F12+G12+H12)/4 -> 96.25 | J12: 63 | K12: =I12+J12 -> 159.25 | L12: 正常 | M12: 未通过
A13: 10 | B13: 廖益鹏 | C13: =VLOOKUP(B13,[1]威宁!$B$3:$D$32,3,0) -> 威宁自治县自然资源局 | D13: 汽车驾驶员_二级_理论 | E13: 90 | F13: 80 | G13: 100 | H13: 80 | I13: =(E13+F13+G13+H13)/4 -> 87.5 | J13: 66 | K13: =I13+J13 -> 153.5 | L13: 正常 | M13: 未通过
A14: 11 | B14: 杨虎 | C14: =VLOOKUP(B14,[1]威宁!$B$3:$D$32,3,0) -> 威宁自治县云贵乡人民政府 | D14: 汽车驾驶员_二级_理论 | E14: 100 | F14: 0 | G14: 100 | H14: 100 | I14: =(E14+F14+G14+H14)/4 -> 75 | J14: 63.5 | K14: =I14+J14 -> 138.5 | L14: 正常 | M14: 未通过
A15: 12 | B15: 任华 | C15: =VLOOKUP(B15,[1]威宁!$B$3:$D$32,3,0) -> 威宁自治县人民政府办公室 | D15: 汽车驾驶员_二级_理论 | F15: 0 | H15: 80 | I15: =(E15+F15+G15+H15)/4 -> 20 | J15: 60 | K15: =I15+J15 -> 80 | L15: 正常 | M15: 未通过
A16: 13 | B16: 李海崑 | C16: =VLOOKUP(B16,[1]威宁!$B$3:$D$32,3,0) -> 威宁自治县农业机械技术推广站 | D16: 汽车驾驶员_二级_理论 | E16: 0 | F16: 48 | I16: =(E16+F16+G16+H16)/4 -> 12 | J16: 63 | K16: =I16+J16 -> 75 | L16: 正常 | M16: 未通过
A17: 14 | B17: 夏勋 | C17: =VLOOKUP(B17,[1]威宁!$B$3:$D$32,3,0) -> 威宁自治县自然资源局 | D17: 汽车驾驶员_二级_理论 | F17: 0 | H17: 60 | I17: =(E17+F17+G17+H17)/4 -> 15 | J17: 60 | K17: =I17+J17 -> 75 | L17: 正常 | M17: 未通过
A18: 15 | B18: 白利翔 | C18: =VLOOKUP(B18,[1]威宁!$B$3:$D$32,3,0) -> 威宁自治县民政局 | D18: 汽车驾驶员_二级_理论 | F18: 0 | I18: =(E18+F18+G18+H18)/4 -> 0 | J18: 63 | K18: =I18+J18 -> 63 | L18: 正常 | M18: 未通过
A19: 16 | B19: 安智 | C19: =VLOOKUP(B19,[1]威宁!$B$3:$D$32,3,0) -> 威宁县公安信息中心 | D19: 汽车驾驶员_二级_理论 | I19: =(E19+F19+G19+H19)/4 -> 0 | J19: 63 | K19: =I19+J19 -> 63 | L19: 正常 | M19: 未通过
A20: 17 | B20: 张海平 | C20: =VLOOKUP(B20,[1]威宁!$B$3:$D$32,3,0) -> 威宁自治县交通建设工程质量和安全监督站 | D20: 汽车驾驶员_二级_理论 | I20: =(E20+F20+G20+H20)/4 -> 0 | J20: 61.5 | K20: =I20+J20 -> 61.5 | L20: 正常 | M20: 未通过
A21: 18 | B21: 严法 | C21: =VLOOKUP(B21,[1]威宁!$B$3:$D$32,3,0) -> 威宁自治县发展和改革局 | D21: 汽车驾驶员_二级_理论 | G21: 0 | I21: =(E21+F21+G21+H21)/4 -> 0 | J21: 61 | K21: =I21+J21 -> 61 | L21: 正常 | M21: 未通过
A22: 19 | B22: 潘兴前 | C22: =VLOOKUP(B22,[1]威宁!$B$3:$D$32,3,0) -> 威宁自治县自然资源局 | D22: 汽车驾驶员_二级_理论 | J22: 56.5 | K22: =I22+J22 -> 56.5 | L22: 正常 | M22: 未通过
A23: 20 | B23: 娄桂钢 | C23: =VLOOKUP(B23,[1]威宁!$B$3:$D$32,3,0) -> 威宁自治县住房和城乡建设局 | D23: 汽车驾驶员_二级_理论 | J23: 56 | K23: =I23+J23 -> 56 | L23: 正常 | M23: 未通过
A24: 21 | B24: 陈永昌 | C24: =VLOOKUP(B24,[1]威宁!$B$3:$D$32,3,0) -> 威宁县公安信息中心 | D24: 汽车驾驶员_二级_理论 | J24: 54.5 | K24: =I24+J24 -> 54.5 | L24: 正常 | M24: 未通过
A25: 22 | B25: 许寿清 | C25: =VLOOKUP(B25,[1]威宁!$B$3:$D$32,3,0) -> 威宁自治县住房和城乡建设局 | D25: 汽车驾驶员_二级_理论 | J25: 50.5 | K25: =I25+J25 -> 50.5 | L25: 正常 | M25: 未通过
A26: 23 | B26: 唐建明 | C26: =VLOOKUP(B26,[1]威宁!$B$3:$D$32,3,0) -> 威宁自治县林业科学技术推广服务站 | D26: 汽车驾驶员_二级_理论 | J26: 46.5 | K26: =I26+J26 -> 46.5 | L26: 正常 | M26: 未通过
A27: 24 | B27: 李海燕 | C27: =VLOOKUP(B27,[1]威宁!$B$3:$D$32,3,0) -> 威宁自治县水库管理中心 | D27: 汽车驾驶员_二级_理论 | J27: 46.5 | K27: =I27+J27 -> 46.5 | L27: 正常 | M27: 未通过
A28: 25 | B28: 禄文全 | C28: =VLOOKUP(B28,[1]威宁!$B$3:$D$32,3,0) -> 威宁自治县自然资源局 | D28: 汽车驾驶员_二级_理论 | J28: 44 | K28: =I28+J28 -> 44 | L28: 正常 | M28: 未通过
A29: 26 | B29: 陈永康 | C29: =VLOOKUP(B29,[1]威宁!$B$3:$D$32,3,0) -> 威宁自治县牛棚镇人民政府 | D29: 汽车驾驶员_二级_理论 | J29: 30 | K29: =I29+J29 -> 30 | L29: 正常 | M29: 未通过
A30: 27 | B30: 林登义 | C30: =VLOOKUP(B30,[1]威宁!$B$3:$D$32,3,0) -> 威宁自治县草地畜牧业发展中心 | D30: 汽车驾驶员_二级_理论 | J30: 27.5 | K30: =I30+J30 -> 27.5 | L30: 正常 | M30: 未通过
A31: 28 | B31: 禄铁军 | C31: =VLOOKUP(B31,[1]威宁!$B$3:$D$32,3,0) -> 威宁自治县地方海事处 | D31: 汽车驾驶员_二级_理论 | J31: 0 | K31: =I31+J31 -> 0 | L31: 缺考 | M31: 未通过
A32: 29 | B32: 吴清云 | C32: =VLOOKUP(B32,[1]威宁!$B$3:$D$32,3,0) -> 威宁自治县住房和城乡建设局 | D32: 汽车驾驶员_二级_理论 | J32: 0 | K32: =I32+J32 -> 0 | L32: 缺考 | M32: 未通过
A33: 30 | B33: 颜佳友 | C33: =VLOOKUP(B33,[1]威宁!$B$3:$D$32,3,0) -> 威宁自治县金钟镇卫生院 | D33: 汽车驾驶员_二级_理论 | J33: 0 | K33: =I33+J33 -> 0 | L33: 缺考 | M33: 未通过
A34: 说明：威宁县2019年汽车驾驶技师考试报名人数47人，根据5%的通过比例，威宁县有3人（即考试前三名）通过考试。截止2019年5月31日，男性满55岁女性满45岁且各项成绩和综合成绩均在60分以上的共3人，为不占比例通过技师考试。本名单公示时间为7天，从2019年9月16日至2019年9月22日。公示结束后，若无异议即报省人力资源和社会保障厅行文。公示期间如有异议，可致电：0857-6222363反应问题。
